BEGIN:VCALENDAR
VERSION:2.0
PRODID:-//wp-events-plugin.com//7.2.3.1//EN
TZID:Australia/Sydney
X-WR-TIMEZONE:Australia/Sydney
BEGIN:VEVENT
UID:157@yowieman.com.au
DTSTART;TZID=Australia/Sydney:20200521T193000
DTEND;TZID=Australia/Sydney:20200521T213000
DTSTAMP:20200428T041649Z
URL:https://www.yowieman.com.au/events/top-secret-tour-of-old-parliament-h
 ouse-now-selling-2/
SUMMARY:Top Secret Tour of Old Parliament House ** CANCELLED COVID-19 **
DESCRIPTION:Join Tim the Yowie Man\, Canberra's Doctor of Spook on a torchl
 ight snoop around the bowels of this landmark building. Uncover hidden saf
 es\, secret hiding holes using by Deputy Prime Ministers and much more. T
 im will share with you tales of the ghosts he personally encountered while
  on an overnight vigil in the building. Please note this tour is restrict
 ed to participants 16 years old and over.\nCost: $59 per head\n\nBook dire
 ctly through the Museum of Australian Democracy\n\n&nbsp\;
ATTACH;FMTTYPE=image/jpeg:https://i0.wp.com/www.yowieman.com.au/wp-content
 /uploads/2018/04/OPHdusk.jpg?fit=3100%2C3143&ssl=1
CATEGORIES:Tours
LOCATION:Museum of Australian Democracy\, 18 King George Terrace\, Parkes\,
  ACT\, 2600\, Canberra\, Australia
GEO:-35.301679;149.1302151
X-APPLE-STRUCTURED-LOCATION;VALUE=URI;X-ADDRESS=18 King George Terrace\, Pa
 rkes\, ACT\, 2600\, Canberra\, Australia;X-APPLE-RADIUS=100;X-TITLE=Museum
  of Australian Democracy:geo:-35.301679,149.1302151
END:VEVENT
BEGIN:VTIMEZONE
TZID:Australia/Sydney
X-LIC-LOCATION:Australia/Sydney
BEGIN:STANDARD
DTSTART:20200405T020000
TZOFFSETFROM:+1100
TZOFFSETTO:+1000
TZNAME:AEST
END:STANDARD
END:VTIMEZONE
END:VCALENDAR