BEGIN:VCALENDAR
VERSION:2.0
PRODID:-//wp-events-plugin.com//7.2.3.1//EN
TZID:Australia/Sydney
X-WR-TIMEZONE:Australia/Sydney
BEGIN:VEVENT
UID:434@yowieman.com.au
DTSTART;TZID=Australia/Sydney:20260610T190000
DTEND;TZID=Australia/Sydney:20260610T210000
DTSTAMP:20260417T065839Z
URL:https://www.yowieman.com.au/events/tombstone-tales-with-tim-the-yowie-
 man-selling-fast/
SUMMARY:Tombstone Tales with Tim the Yowie Man ** SELLING FAST **
DESCRIPTION:[smartslider3 slider="22"]\n\nIn the shadows of towering pines\
 , discover stories of true tragedy\, heinous crime\, and eternal love on t
 his twilight wander around Canberra’s first graveyard. An enlightening j
 ourney back in time to unearth forgotten tales\, delve into unsolved myste
 ries and scratch the hidden underbelly of the national capital before it e
 ven existed.\n\nFinish the walking tour with a light supper in the adjoini
 ng former schoolhouse\, arguably the oldest building in the Canberra. Oh\,
  and what’s that figure in white often glimpsed out the former schoolmas
 ter’s bedroom window? It couldn’t be\, could it?\n\nWhen: 7pm – 9pm\
 nWhere: St Johns Church\, 45 Constitution Avenue\, Reid\, ACT 2612\nCost:
  $59pp via EFT\, includes light supper\nBookings: Essential\nAge: Over 16s
  only\n\nBYO: A sense of adventure\, torch and suitable clothing to be out
 doors. Please wear flat soles shoes as surface uneven.  We will be on our
  feet for almost the entire tour.
ATTACH;FMTTYPE=image/jpeg:https://i0.wp.com/www.yowieman.com.au/wp-content
 /uploads/2026/01/TS3.jpg?fit=1536%2C2048&ssl=1
CATEGORIES:Canberra Based Tours,Tours
LOCATION:St John's Church\, 45 Constitution Avenue\, Reid\, ACT\, 2612\, Ca
 nberra\, Australia
X-APPLE-STRUCTURED-LOCATION;VALUE=URI;X-ADDRESS=45 Constitution Avenue\, Re
 id\, ACT\, 2612\, Canberra\, Australia;X-APPLE-RADIUS=100;X-TITLE=St John'
 s Church:geo:0,0
END:VEVENT
BEGIN:VTIMEZONE
TZID:Australia/Sydney
X-LIC-LOCATION:Australia/Sydney
BEGIN:STANDARD
DTSTART:20260405T020000
TZOFFSETFROM:+1100
TZOFFSETTO:+1000
TZNAME:AEST
END:STANDARD
END:VTIMEZONE
END:VCALENDAR