BEGIN:VCALENDAR
VERSION:2.0
PRODID:-//wp-events-plugin.com//7.2.3.1//EN
TZID:Australia/Sydney
X-WR-TIMEZONE:Australia/Sydney
BEGIN:VEVENT
UID:429@yowieman.com.au
DTSTART;TZID=Australia/Sydney:20260430T190000
DTEND;TZID=Australia/Sydney:20260430T210000
DTSTAMP:20260314T223709Z
URL:https://www.yowieman.com.au/events/tombstone-tales-with-tim-the-yowie-
 man-save-the-date-2/
SUMMARY:Tombstone Tales with Tim the Yowie Man ** SOLD OUT **
DESCRIPTION:[smartslider3 slider="22"]\n\nSPECIAL EVENT AS PART OF THE 2026
  CANBERRA &amp\; REGION HERITAGE FESTIVAL\n\nIn the shadows of towering pi
 nes\, discover stories of true tragedy\, heinous crime\, and eternal love 
 on this twilight wander around Canberra’s first graveyard. An enlighteni
 ng journey back in time to unearth forgotten tales\, delve into unsolved m
 ysteries and scratch the hidden underbelly of the national capital before 
 it even existed.\n\nFinish the walking tour with a light supper in the adj
 oining former schoolhouse\, arguably the oldest building in the Canberra. 
 Oh\, and what’s that figure in white often glimpsed out the former schoo
 lmaster’s bedroom window? It couldn’t be\, could it?\n\nWhen: 7pm – 
 9pm\nWhere: St Johns Church\, 45 Constitution Avenue\, Reid\, ACT 2612\nC
 ost: $59pp via EFT\, includes light supper\nBookings: Essential\nAge: Over
  16s only\n\nBYO: A sense of adventure\, torch and suitable clothing to be
  outdoors. Please wear flat soles shoes as surface uneven.  We will be on
  our feet for almost the entire tour.
ATTACH;FMTTYPE=image/jpeg:https://i0.wp.com/www.yowieman.com.au/wp-content
 /uploads/2026/01/TS3.jpg?fit=1536%2C2048&ssl=1
CATEGORIES:Canberra Based Tours,Tours
LOCATION:St John's Church\, 45 Constitution Avenue\, Reid\, ACT\, 2612\, Ca
 nberra\, Australia
X-APPLE-STRUCTURED-LOCATION;VALUE=URI;X-ADDRESS=45 Constitution Avenue\, Re
 id\, ACT\, 2612\, Canberra\, Australia;X-APPLE-RADIUS=100;X-TITLE=St John'
 s Church:geo:0,0
END:VEVENT
BEGIN:VTIMEZONE
TZID:Australia/Sydney
X-LIC-LOCATION:Australia/Sydney
BEGIN:STANDARD
DTSTART:20260405T020000
TZOFFSETFROM:+1100
TZOFFSETTO:+1000
TZNAME:AEST
END:STANDARD
END:VTIMEZONE
END:VCALENDAR