BEGIN:VCALENDAR
VERSION:2.0
PRODID:-//wp-events-plugin.com//7.2.3.1//EN
TZID:Australia/Sydney
X-WR-TIMEZONE:Australia/Sydney
BEGIN:VEVENT
UID:152@yowieman.com.au
DTSTART;TZID=Australia/Sydney:20200418T184500
DTEND;TZID=Australia/Sydney:20200418T220000
DTSTAMP:20200316T093354Z
URL:https://www.yowieman.com.au/events/tim-the-yowie-mans-canberra-spy-tou
 r-5/
SUMMARY:Tim the Yowie Man's Canberra Spy Tour ** CANCELLED COVID-19 **
DESCRIPTION:[smartslider3 slider=15]\nIn association with the National Arch
 ives of Australia\, comes Tim the Yowie Man’s Canberra Spy Tour. If you 
 dare!\n\nUnder the cover of darkness snoop around sites of Cold War espion
 age in Canberra. Watch original ASIO surveillance footage in-situ. Search 
 for dead drops – really!\n\nDiscover more about what makes a spy tick wi
 th a special behind the scenes tour with the curator at the National Archi
 ves of Australia exhibition: ‘Spy: Espionage in Australia’…and much 
 more!\n\nLimited numbers. Transport is via bus\, pick-up and drop-off is a
 t the Albert Hall in Parkes\, ACT. Tickets are allocated on a first come b
 asis.\n\nCost: $79pp\nAges: 12 plus
ATTACH;FMTTYPE=image/jpeg:https://i0.wp.com/www.yowieman.com.au/wp-content
 /uploads/2020/01/Tim-Yowie-man.jpg?fit=2362%2C1566&ssl=1
CATEGORIES:Canberra Based Tours,Tours
LOCATION:National Archives of Australia\, Queen Victoria Terrace\, Parkes\,
  ACT\, 2600\, Australia
GEO:-35.3032493;149.12880659999996
X-APPLE-STRUCTURED-LOCATION;VALUE=URI;X-ADDRESS=Queen Victoria Terrace\, Pa
 rkes\, ACT\, 2600\, Australia;X-APPLE-RADIUS=100;X-TITLE=National Archives
  of Australia:geo:-35.3032493,149.12880659999996
END:VEVENT
BEGIN:VTIMEZONE
TZID:Australia/Sydney
X-LIC-LOCATION:Australia/Sydney
BEGIN:STANDARD
DTSTART:20200405T020000
TZOFFSETFROM:+1100
TZOFFSETTO:+1000
TZNAME:AEST
END:STANDARD
END:VTIMEZONE
END:VCALENDAR