BEGIN:VCALENDAR
VERSION:2.0
PRODID:-//wp-events-plugin.com//7.2.3.1//EN
TZID:Australia/Sydney
X-WR-TIMEZONE:Australia/Sydney
BEGIN:VEVENT
UID:415@yowieman.com.au
DTSTART;TZID=Australia/Sydney:20260516T191500
DTEND;TZID=Australia/Sydney:20260516T214500
DTSTAMP:20260222T010931Z
URL:https://www.yowieman.com.au/events/national-film-sound-archive-ghost-t
 our-41/
SUMMARY:National Film & Sound Archive Ghost Tour * SOLD OUT *
DESCRIPTION:[smartslider3 slider=4]\nJoin Tim the Yowie Man for a rare and 
 spooky ghost tour of the NFSA’s headquarters. Discover the strange\, the
  ghostly and the disturbing stories lurking in the NFSA’s basement and u
 nder the stairs…if you dare! A rare treat for lovers of the strange and 
 the macabre.  STRICTLY 16 YEARS AND OLDER\n\nCost: $99 per head\n\nBook d
 irectly through the National Film &amp\; Sound Archive\n\n&nbsp\;\n\n&nbsp
 \;\n\n&nbsp\;
ATTACH;FMTTYPE=image/jpeg:https://i0.wp.com/www.yowieman.com.au/wp-content
 /uploads/2021/10/IMGP6221-11-FRONT-BOXES.jpg?fit=400%2C523&ssl=1
CATEGORIES:Tours
LOCATION:National Film & Sound Archives\, 1 McCoy Circuit\, Acton\, ACT\, 2
 601\, Australia
GEO:-35.2833798;149.12215760000004
X-APPLE-STRUCTURED-LOCATION;VALUE=URI;X-ADDRESS=1 McCoy Circuit\, Acton\, A
 CT\, 2601\, Australia;X-APPLE-RADIUS=100;X-TITLE=National Film & Sound Arc
 hives:geo:-35.2833798,149.12215760000004
END:VEVENT
BEGIN:VTIMEZONE
TZID:Australia/Sydney
X-LIC-LOCATION:Australia/Sydney
BEGIN:STANDARD
DTSTART:20260405T020000
TZOFFSETFROM:+1100
TZOFFSETTO:+1000
TZNAME:AEST
END:STANDARD
END:VTIMEZONE
END:VCALENDAR