BEGIN:VCALENDAR
VERSION:2.0
PRODID:-//wp-events-plugin.com//7.2.3.1//EN
TZID:Australia/Sydney
X-WR-TIMEZONE:Australia/Sydney
BEGIN:VEVENT
UID:141@yowieman.com.au
DTSTART;TZID=Australia/Sydney:20200228T210000
DTEND;TZID=Australia/Sydney:20200228T231500
DTSTAMP:20200112T044612Z
URL:https://www.yowieman.com.au/events/http-shop-nfsa-gov-au-ghost-tour-nf
 sa-february-28-2020-9pm/
SUMMARY:National Film & Sound Archive Ghost Tour ** SOLD OUT **
DESCRIPTION:[smartslider3 slider=4]\nJoin Tim the Yowie Man for a rare and 
 spooky ghost tour of the NFSA’s headquarters. Discover the strange\, the
  ghostly and the disturbing stories lurking in the NFSA’s basement and u
 nder the stairs…if you dare! A rare treat for lovers of the strange and 
 the macabre.\n\nCost: $70 per head\n\nBook directly through the National F
 ilm &amp\; Sound Archive\n\n&nbsp\;\n\n&nbsp\;\n\n&nbsp\;
ATTACH;FMTTYPE=image/jpeg:https://i0.wp.com/www.yowieman.com.au/wp-content
 /uploads/2016/01/NAA-widget.jpg?fit=250%2C188&ssl=1
CATEGORIES:Tours
LOCATION:National Film & Sound Archives\, 1 McCoy Circuit\, Acton\, ACT\, 2
 601\, Australia
GEO:-35.2833798;149.12215760000004
X-APPLE-STRUCTURED-LOCATION;VALUE=URI;X-ADDRESS=1 McCoy Circuit\, Acton\, A
 CT\, 2601\, Australia;X-APPLE-RADIUS=100;X-TITLE=National Film & Sound Arc
 hives:geo:-35.2833798,149.12215760000004
END:VEVENT
BEGIN:VTIMEZONE
TZID:Australia/Sydney
X-LIC-LOCATION:Australia/Sydney
BEGIN:DAYLIGHT
DTSTART:20191006T030000
TZOFFSETFROM:+1000
TZOFFSETTO:+1100
TZNAME:AEDT
END:DAYLIGHT
END:VTIMEZONE
END:VCALENDAR