BEGIN:VCALENDAR
VERSION:2.0
PRODID:-//wp-events-plugin.com//7.2.3.1//EN
TZID:Australia/Sydney
X-WR-TIMEZONE:Australia/Sydney
BEGIN:VEVENT
UID:433@yowieman.com.au
DTSTART;TZID=Australia/Sydney:20260523T163000
DTEND;TZID=Australia/Sydney:20260523T190000
DTSTAMP:20260417T063032Z
URL:https://www.yowieman.com.au/events/cooma-cottage-by-torchlight-selling
 -fast-3/
SUMMARY:Cooma Cottage by Torchlight *SELLING FAST *
DESCRIPTION:\n\n[smartslider3 slider=12]\n\n&nbsp\;\n\nJoin history enthusi
 ast and author\, Tim the Yowie Man® on a tour that shines a spotlight int
 o the hidden underbelly of the nineteenth century pastoral property of Ham
 ilton Hume\, the first Australian-born explorer. A unique\, two-and-a-half
  hour experience exploring remarkable historical accounts and ghostly tale
 s of this rural NSW National Trust treasure. Not for the feint-hearted. In
 cludes fireside (weather pending) damper with pumpkin soup and hot drink.\
 n\nCost: $99 per head\, bookings essential.\n\nLimited numbers to ensure s
 ocial distancing and an exclusive experience.\n\nAge limit: 16+\n\n
ATTACH;FMTTYPE=image/jpeg:https://i0.wp.com/www.yowieman.com.au/wp-content
 /uploads/2019/07/Cooma-cottage1.jpg-scaled.jpg?fit=2560%2C1244&ssl=1
CATEGORIES:Further Afield Tours,Tours
LOCATION:Cooma Cottage\, 756 Yass Valley Way\, Yass\, NSW\, 2582\, Australi
 a
X-APPLE-STRUCTURED-LOCATION;VALUE=URI;X-ADDRESS=756 Yass Valley Way\, Yass\
 , NSW\, 2582\, Australia;X-APPLE-RADIUS=100;X-TITLE=Cooma Cottage:geo:0,0
END:VEVENT
BEGIN:VTIMEZONE
TZID:Australia/Sydney
X-LIC-LOCATION:Australia/Sydney
BEGIN:STANDARD
DTSTART:20260405T020000
TZOFFSETFROM:+1100
TZOFFSETTO:+1000
TZNAME:AEST
END:STANDARD
END:VTIMEZONE
END:VCALENDAR